Workbook

Sheet （　　　　　)高校　男子団体
A1: 令和８年度 全九州高等学校体育大会
A2: 第76回 全九州高等学校柔道競技大会
A3: 参加申込書【団体試合】
S4: 県 名
A6: 男 子 | S6: 県予選順位 | X6: 位
A8: ふりがな | K8: 所在地 | N8: 〒 | Q8: －
A9: 学校名 | H9: 高等学校
N10: TEL | T10: FAX
A11: ふりがな | K11: 連絡先 | N11: 〒 | Q11: －
A12: 監督名
N13: TEL | T13: FAX
A15: 区分 | C15: ふ り が な | H15: 段位 | J15: 学年 | L15: 年齢 | N15: 生年月日 | Q15: 身長 （㎝） | S15: 体重 （㎏） | U15: 登 録 I D 【９桁の番号】
C16: 選 手 氏 名
A17: 先鋒
Q18: cm | S18: kg
A19: 次鋒
Q20: cm | S20: kg
A21: 中堅
Q22: cm | S22: kg
A23: 副将
Q24: cm | S24: kg
A25: 大将
Q26: cm | S26: kg
A27: 補欠
Q28: cm | S28: kg
A29: 補欠
Q30: cm | S30: kg
B31: 上記の者は、本校在学生で標記大会に出場することを認め、参加申し込み及び宿泊申し込みいたします。
A32: 令和８年 | D32: 月 | F32: 日
M33: 高等学校長 | X33: 印
A34: 上記の者は、（ | H34: ）県代表として、標記大会に出場することを認め、参加申し込みいたします。
A35: 令和８年 | D35: 月 | F35: 日
L36: 県高等学校体育連盟会長
A37: 令和８年度 全九州高等学校体育大会会長 様

Sheet （　　　　）高校　女子団体
A1: 令和８年度 全九州高等学校体育大会
A2: 第76回 全九州高等学校柔道競技大会
A3: 参加申込書【団体試合】
S4: 県 名
A6: 女 子 | S6: 県予選順位 | X6: 位
A8: ふりがな | K8: 所在地 | N8: 〒 | Q8: －
A9: 学校名 | H9: 高等学校
N10: TEL | T10: FAX
A11: ふりがな | K11: 連絡先 | N11: 〒 | Q11: －
A12: 監督名
N13: TEL | T13: FAX
A15: 区分 | C15: ふ り が な | H15: 段位 | J15: 学年 | L15: 年齢 | N15: 生年月日 | Q15: 身長 （㎝） | S15: 体重 （㎏） | U15: 登 録 I D 【９桁の番号】
C16: 選 手 氏 名
A17: 先鋒
Q18: cm | S18: kg
A19: 中堅
Q20: cm | S20: kg
A21: 大将
Q22: cm | S22: kg
A23: 補欠
Q24: cm | S24: kg
B25: 上記の者は、本校在学生で標記大会に出場することを認め、参加申し込み及び宿泊申し込みいたします。
A26: 令和８年 | D26: 月 | F26: 日
M27: 高等学校長 | X27: 印
A28: 上記の者は、（ | H28: ）県代表として、標記大会に出場することを認め、参加申し込みいたします。
A29: 令和８年 | D29: 月 | F29: 日
L30: 県高等学校体育連盟会長
A31: 令和８年度 全九州高等学校体育大会会長 様

Sheet 管理シート男団
A1: 男子
B3: ='（ )高校 男子団体'!S5 -> 0
B4: ='（ )高校 男子団体'!V6 -> 0 | C4: ='（ )高校 男子団体'!D9 -> 0
B5: 監督 | C5: ='（ )高校 男子団体'!D12 -> 0
B6: 順位 | C6: 氏名 | D6: 段位 | E6: 学年 | F6: 身長 | G6: 体重
B7: 先鋒 | C7: ='（ )高校 男子団体'!C18 -> 0 | D7: ='（ )高校 男子団体'!H17 -> 0 | E7: ='（ )高校 男子団体'!J17 -> 0 | F7: ='（ )高校 男子団体'!Q17 -> 0 | G7: ='（ )高校 男子団体'!S17 -> 0
B8: 次鋒 | C8: ='（ )高校 男子団体'!C20 -> 0 | D8: ='（ )高校 男子団体'!H19 -> 0 | E8: ='（ )高校 男子団体'!J19 -> 0 | F8: ='（ )高校 男子団体'!Q19 -> 0 | G8: ='（ )高校 男子団体'!S19 -> 0
B9: 中堅 | C9: ='（ )高校 男子団体'!C22 -> 0 | D9: ='（ )高校 男子団体'!H21 -> 0 | E9: ='（ )高校 男子団体'!J21 -> 0 | F9: ='（ )高校 男子団体'!Q21 -> 0 | G9: ='（ )高校 男子団体'!S21 -> 0
B10: 副将 | C10: ='（ )高校 男子団体'!C24 -> 0 | D10: ='（ )高校 男子団体'!H23 -> 0 | E10: ='（ )高校 男子団体'!J23 -> 0 | F10: ='（ )高校 男子団体'!Q23 -> 0 | G10: ='（ )高校 男子団体'!S23 -> 0
B11: 大将 | C11: ='（ )高校 男子団体'!C28 -> 0 | D11: ='（ )高校 男子団体'!H27 -> 0 | E11: ='（ )高校 男子団体'!J27 -> 0 | F11: ='（ )高校 男子団体'!Q27 -> 0 | G11: ='（ )高校 男子団体'!S27 -> 0
B12: 補欠 | C12: ='（ )高校 男子団体'!C26 -> 0 | D12: ='（ )高校 男子団体'!H25 -> 0 | E12: ='（ )高校 男子団体'!J25 -> 0 | F12: ='（ )高校 男子団体'!Q25 -> 0 | G12: ='（ )高校 男子団体'!S25 -> 0
B13: 補欠 | C13: ='（ )高校 男子団体'!C30 -> 0 | D13: ='（ )高校 男子団体'!H29 -> 0 | E13: ='（ )高校 男子団体'!J29 -> 0 | F13: ='（ )高校 男子団体'!Q29 -> 0 | G13: ='（ )高校 男子団体'!S29 -> 0
B15: 男女 | C15: 県 | D15: 順位 | E15: 高校 | F15: ふりがな | G15: 郵便番号 | H15: 住所 | I15: TEL | J15: FAX
B16: ='（ )高校 男子団体'!A6 -> 男 子 | C16: ='（ )高校 男子団体'!S5 -> 0 | D16: ='（ )高校 男子団体'!V6 -> 0 | E16: ='（ )高校 男子団体'!D9 -> 0 | F16: ='（ )高校 男子団体'!D8 -> 0 | G16: ='（ )高校 男子団体'!N8 -> 〒 | H16: ='（ )高校 男子団体'!N9 -> 0 | I16: ='（ )高校 男子団体'!O10 -> 0 | J16: ='（ )高校 男子団体'!U10 -> 0
B17: 男女 | C17: 県 | D17: 順位 | E17: 監督名 | F17: ふりがな | G17: 郵便番号 | H17: 住所 | I17: TEL | J17: FAX
B18: ='（ )高校 男子団体'!A6 -> 男 子 | C18: ='（ )高校 男子団体'!S5 -> 0 | D18: ='（ )高校 男子団体'!V6 -> 0 | E18: ='（ )高校 男子団体'!D12 -> 0 | F18: ='（ )高校 男子団体'!D11 -> 0 | G18: ='（ )高校 男子団体'!N11 -> 〒 | H18: ='（ )高校 男子団体'!N12 -> 0 | I18: ='（ )高校 男子団体'!O13 -> 0 | J18: ='（ )高校 男子団体'!U13 -> 0
B20: 男女 | C20: 県 | D20: 順位 | E20: 高校 | F20: 監督 | G20: 順位 | H20: 名前 | I20: ふりがな | J20: 段位 | K20: 学年 | L20: 年齢 | M20: 生年月日 | N20: 身長 | O20: 体重
B21: ='（ )高校 男子団体'!$A$6 -> 男 子 | C21: ='（ )高校 男子団体'!$S$5 -> 0 | D21: ='（ )高校 男子団体'!$V$6 -> 0 | E21: ='（ )高校 男子団体'!$D$9 -> 0 | F21: ='（ )高校 男子団体'!$D$12 -> 0 | G21: ='（ )高校 男子団体'!A17 -> 先鋒 | H21: ='（ )高校 男子団体'!C18 -> 0 | I21: ='（ )高校 男子団体'!C17 -> 0 | J21: ='（ )高校 男子団体'!H17 -> 0 | K21: ='（ )高校 男子団体'!J17 -> 0 | L21: ='（ )高校 男子団体'!L17 -> 0 | M21: ='（ )高校 男子団体'!N17 -> 0 | N21: ='（ )高校 男子団体'!Q17 -> 0 | O21: ='（ )高校 男子団体'!S17 -> 0
B22: ='（ )高校 男子団体'!$A$6 -> 男 子 | C22: ='（ )高校 男子団体'!$S$5 -> 0 | D22: ='（ )高校 男子団体'!$V$6 -> 0 | E22: ='（ )高校 男子団体'!$D$9 -> 0 | F22: ='（ )高校 男子団体'!$D$12 -> 0 | G22: ='（ )高校 男子団体'!A19 -> 次鋒 | H22: ='（ )高校 男子団体'!C20 -> 0 | I22: ='（ )高校 男子団体'!C19 -> 0 | J22: ='（ )高校 男子団体'!H19 -> 0 | K22: ='（ )高校 男子団体'!J19 -> 0 | L22: ='（ )高校 男子団体'!L19 -> 0 | M22: ='（ )高校 男子団体'!N19 -> 0 | N22: ='（ )高校 男子団体'!Q19 -> 0 | O22: ='（ )高校 男子団体'!S19 -> 0
B23: ='（ )高校 男子団体'!$A$6 -> 男 子 | C23: ='（ )高校 男子団体'!$S$5 -> 0 | D23: ='（ )高校 男子団体'!$V$6 -> 0 | E23: ='（ )高校 男子団体'!$D$9 -> 0 | F23: ='（ )高校 男子団体'!$D$12 -> 0 | G23: ='（ )高校 男子団体'!A21 -> 中堅 | H23: ='（ )高校 男子団体'!C22 -> 0 | I23: ='（ )高校 男子団体'!C21 -> 0 | J23: ='（ )高校 男子団体'!H21 -> 0 | K23: ='（ )高校 男子団体'!J21 -> 0 | L23: ='（ )高校 男子団体'!L21 -> 0 | M23: ='（ )高校 男子団体'!N21 -> 0 | N23: ='（ )高校 男子団体'!Q21 -> 0 | O23: ='（ )高校 男子団体'!S21 -> 0
B24: ='（ )高校 男子団体'!$A$6 -> 男 子 | C24: ='（ )高校 男子団体'!$S$5 -> 0 | D24: ='（ )高校 男子団体'!$V$6 -> 0 | E24: ='（ )高校 男子団体'!$D$9 -> 0 | F24: ='（ )高校 男子団体'!$D$12 -> 0 | G24: ='（ )高校 男子団体'!A23 -> 副将 | H24: ='（ )高校 男子団体'!C24 -> 0 | I24: ='（ )高校 男子団体'!C23 -> 0 | J24: ='（ )高校 男子団体'!H23 -> 0 | K24: ='（ )高校 男子団体'!J23 -> 0 | L24: ='（ )高校 男子団体'!L23 -> 0 | M24: ='（ )高校 男子団体'!N23 -> 0 | N24: ='（ )高校 男子団体'!Q23 -> 0 | O24: ='（ )高校 男子団体'!S23 -> 0
B25: ='（ )高校 男子団体'!$A$6 -> 男 子 | C25: ='（ )高校 男子団体'!$S$5 -> 0 | D25: ='（ )高校 男子団体'!$V$6 -> 0 | E25: ='（ )高校 男子団体'!$D$9 -> 0 | F25: ='（ )高校 男子団体'!$D$12 -> 0 | G25: ='（ )高校 男子団体'!A25 -> 大将 | H25: ='（ )高校 男子団体'!C28 -> 0 | I25: ='（ )高校 男子団体'!C27 -> 0 | J25: ='（ )高校 男子団体'!H27 -> 0 | K25: ='（ )高校 男子団体'!J27 -> 0 | L25: ='（ )高校 男子団体'!L27 -> 0 | M25: ='（ )高校 男子団体'!N27 -> 0 | N25: ='（ )高校 男子団体'!Q27 -> 0 | O25: ='（ )高校 男子団体'!S27 -> 0
B26: ='（ )高校 男子団体'!$A$6 -> 男 子 | C26: ='（ )高校 男子団体'!$S$5 -> 0 | D26: ='（ )高校 男子団体'!$V$6 -> 0 | E26: ='（ )高校 男子団体'!$D$9 -> 0 | F26: ='（ )高校 男子団体'!$D$12 -> 0 | G26: ='（ )高校 男子団体'!#REF! -> #REF! | H26: ='（ )高校 男子団体'!C26 -> 0 | I26: ='（ )高校 男子団体'!C25 -> 0 | J26: ='（ )高校 男子団体'!H25 -> 0 | K26: ='（ )高校 男子団体'!J25 -> 0 | L26: ='（ )高校 男子団体'!L25 -> 0 | M26: ='（ )高校 男子団体'!N25 -> 0 | N26: ='（ )高校 男子団体'!Q25 -> 0 | O26: ='（ )高校 男子団体'!S25 -> 0
B27: ='（ )高校 男子団体'!$A$6 -> 男 子 | C27: ='（ )高校 男子団体'!$S$5 -> 0 | D27: ='（ )高校 男子団体'!$V$6 -> 0 | E27: ='（ )高校 男子団体'!$D$9 -> 0 | F27: ='（ )高校 男子団体'!$D$12 -> 0 | G27: ='（ )高校 男子団体'!A29 -> 補欠 | H27: ='（ )高校 男子団体'!C30 -> 0 | I27: ='（ )高校 男子団体'!C29 -> 0 | J27: ='（ )高校 男子団体'!H29 -> 0 | K27: ='（ )高校 男子団体'!J29 -> 0 | L27: ='（ )高校 男子団体'!L29 -> 0 | M27: ='（ )高校 男子団体'!N29 -> 0 | N27: ='（ )高校 男子団体'!Q29 -> 0 | O27: ='（ )高校 男子団体'!S29 -> 0

Sheet 管理シート女団
A1: 女子
B3: ='（ ）高校 女子団体'!S5 -> 0
B4: ='（ ）高校 女子団体'!V6 -> 0 | C4: ='（ ）高校 女子団体'!D9 -> 0
B5: 監督 | C5: ='（ ）高校 女子団体'!D12 -> 0
B6: 順位 | C6: 氏名 | D6: 段位 | E6: 学年 | F6: 身長 | G6: 体重
B7: 先鋒 | C7: ='（ ）高校 女子団体'!C22 -> 0 | D7: ='（ ）高校 女子団体'!H21 -> 0 | E7: ='（ ）高校 女子団体'!J21 -> 0 | F7: ='（ ）高校 女子団体'!Q21 -> 0 | G7: ='（ ）高校 女子団体'!S21 -> 0
B8: 中堅 | C8: ='（ ）高校 女子団体'!C20 -> 0 | D8: ='（ ）高校 女子団体'!H19 -> 0 | E8: ='（ ）高校 女子団体'!J19 -> 0 | F8: ='（ ）高校 女子団体'!Q19 -> 0 | G8: ='（ ）高校 女子団体'!S19 -> 0
B9: 大将 | C9: ='（ ）高校 女子団体'!C18 -> 0 | D9: ='（ ）高校 女子団体'!H17 -> 0 | E9: ='（ ）高校 女子団体'!J17 -> 0 | F9: ='（ ）高校 女子団体'!Q17 -> 0 | G9: ='（ ）高校 女子団体'!S17 -> 0
B10: 補欠 | C10: ='（ ）高校 女子団体'!C24 -> 0 | D10: ='（ ）高校 女子団体'!H23 -> 0 | E10: ='（ ）高校 女子団体'!J23 -> 0 | F10: ='（ ）高校 女子団体'!Q23 -> 0 | G10: ='（ ）高校 女子団体'!S23 -> 0
B12: 男女 | C12: 県 | D12: 順位 | E12: 高校 | F12: ふりがな | G12: 郵便番号 | H12: 住所 | I12: TEL | J12: FAX
B13: ='（ ）高校 女子団体'!A6 -> 女 子 | C13: ='（ ）高校 女子団体'!S5 -> 0 | D13: ='（ ）高校 女子団体'!V6 -> 0 | E13: ='（ ）高校 女子団体'!D9 -> 0 | F13: ='（ ）高校 女子団体'!D8 -> 0 | G13: ='（ ）高校 女子団体'!N8 -> 〒 | H13: ='（ ）高校 女子団体'!N9 -> 0 | I13: ='（ ）高校 女子団体'!O10 -> 0 | J13: ='（ ）高校 女子団体'!U10 -> 0
B14: 男女 | C14: 県 | D14: 順位 | E14: 監督名 | F14: ふりがな | G14: 郵便番号 | H14: 住所 | I14: TEL | J14: FAX
B15: ='（ ）高校 女子団体'!A6 -> 女 子 | C15: ='（ ）高校 女子団体'!S5 -> 0 | D15: ='（ ）高校 女子団体'!V6 -> 0 | E15: ='（ ）高校 女子団体'!D12 -> 0 | F15: ='（ ）高校 女子団体'!D11 -> 0 | G15: ='（ ）高校 女子団体'!N11 -> 〒 | H15: ='（ ）高校 女子団体'!N12 -> 0 | I15: ='（ ）高校 女子団体'!O13 -> 0 | J15: ='（ ）高校 女子団体'!U13 -> 0
B17: 男女 | C17: 県 | D17: 順位 | E17: 高校 | F17: 監督 | G17: 順位 | H17: 名前 | I17: ふりがな | J17: 段位 | K17: 学年 | L17: 年齢 | M17: 生年月日 | N17: 身長 | O17: 体重
B18: ='（ ）高校 女子団体'!$A$6 -> 女 子 | C18: ='（ ）高校 女子団体'!$S$5 -> 0 | D18: ='（ ）高校 女子団体'!$V$6 -> 0 | E18: ='（ ）高校 女子団体'!$D$9 -> 0 | F18: ='（ ）高校 女子団体'!$D$12 -> 0 | G18: ='（ ）高校 女子団体'!A17 -> 先鋒 | H18: ='（ ）高校 女子団体'!C22 -> 0 | I18: ='（ ）高校 女子団体'!C21 -> 0 | J18: ='（ ）高校 女子団体'!H21 -> 0 | K18: ='（ ）高校 女子団体'!J21 -> 0 | L18: ='（ ）高校 女子団体'!L21 -> 0 | M18: ='（ ）高校 女子団体'!N21 -> 0 | N18: ='（ ）高校 女子団体'!Q21 -> 0 | O18: ='（ ）高校 女子団体'!S21 -> 0
B19: ='（ ）高校 女子団体'!$A$6 -> 女 子 | C19: ='（ ）高校 女子団体'!$S$5 -> 0 | D19: ='（ ）高校 女子団体'!$V$6 -> 0 | E19: ='（ ）高校 女子団体'!$D$9 -> 0 | F19: ='（ ）高校 女子団体'!$D$12 -> 0 | G19: ='（ ）高校 女子団体'!A19 -> 中堅 | H19: ='（ ）高校 女子団体'!C20 -> 0 | I19: ='（ ）高校 女子団体'!C19 -> 0 | J19: ='（ ）高校 女子団体'!H19 -> 0 | K19: ='（ ）高校 女子団体'!J19 -> 0 | L19: ='（ ）高校 女子団体'!L19 -> 0 | M19: ='（ ）高校 女子団体'!N19 -> 0 | N19: ='（ ）高校 女子団体'!Q19 -> 0 | O19: ='（ ）高校 女子団体'!S19 -> 0
B20: ='（ ）高校 女子団体'!$A$6 -> 女 子 | C20: ='（ ）高校 女子団体'!$S$5 -> 0 | D20: ='（ ）高校 女子団体'!$V$6 -> 0 | E20: ='（ ）高校 女子団体'!$D$9 -> 0 | F20: ='（ ）高校 女子団体'!$D$12 -> 0 | G20: ='（ ）高校 女子団体'!A21 -> 大将 | H20: ='（ ）高校 女子団体'!C18 -> 0 | I20: ='（ ）高校 女子団体'!C17 -> 0 | J20: ='（ ）高校 女子団体'!H17 -> 0 | K20: ='（ ）高校 女子団体'!J17 -> 0 | L20: ='（ ）高校 女子団体'!L17 -> 0 | M20: ='（ ）高校 女子団体'!N17 -> 0 | N20: ='（ ）高校 女子団体'!Q17 -> 0 | O20: ='（ ）高校 女子団体'!S17 -> 0
B21: ='（ ）高校 女子団体'!$A$6 -> 女 子 | C21: ='（ ）高校 女子団体'!$S$5 -> 0 | D21: ='（ ）高校 女子団体'!$V$6 -> 0 | E21: ='（ ）高校 女子団体'!$D$9 -> 0 | F21: ='（ ）高校 女子団体'!$D$12 -> 0 | G21: ='（ ）高校 女子団体'!A23 -> 補欠 | H21: ='（ ）高校 女子団体'!C24 -> 0 | I21: ='（ ）高校 女子団体'!C23 -> 0 | J21: ='（ ）高校 女子団体'!H23 -> 0 | K21: ='（ ）高校 女子団体'!J23 -> 0 | L21: ='（ ）高校 女子団体'!L23 -> 0 | M21: ='（ ）高校 女子団体'!N23 -> 0 | N21: ='（ ）高校 女子団体'!Q23 -> 0 | O21: ='（ ）高校 女子団体'!S23 -> 0
